BEGIN:VCALENDAR
VERSION:2.0
PRODID:-//FECDAS - ECPv6.10.1.1//NONSGML v1.0//EN
CALSCALE:GREGORIAN
METHOD:PUBLISH
X-WR-CALNAME:FECDAS
X-ORIGINAL-URL:https://fecdas.cat
X-WR-CALDESC:Esdeveniments per FECDAS
REFRESH-INTERVAL;VALUE=DURATION:PT1H
X-Robots-Tag:noindex
X-PUBLISHED-TTL:PT1H
BEGIN:VTIMEZONE
TZID:Europe/Madrid
BEGIN:DAYLIGHT
TZOFFSETFROM:+0100
TZOFFSETTO:+0200
TZNAME:CEST
DTSTART:20250330T010000
END:DAYLIGHT
BEGIN:STANDARD
TZOFFSETFROM:+0200
TZOFFSETTO:+0100
TZNAME:CET
DTSTART:20251026T010000
END:STANDARD
END:VTIMEZONE
BEGIN:VEVENT
DTSTART;VALUE=DATE:20250830
DTEND;VALUE=DATE:20250831
DTSTAMP:20260421T113641
CREATED:20250212T091236Z
LAST-MODIFIED:20250226T103349Z
UID:12079-1756512000-1756598399@fecdas.cat
SUMMARY:XXVIII FOTOSUB APNEA ACAS COSTA BRAVA
DESCRIPTION:
URL:https://fecdas.cat/activitat/xxviii-fotosub-apnea-acas-costa-brava/
LOCATION:Roses Montjoi
CATEGORIES:Fotosub-apnea
ORGANIZER;CN="ACASCB (Ass. E/C CAS SUB Costa Brava)":MAILTO:cascbgi@hotmail.com
END:VEVENT
END:VCALENDAR