BEGIN:VCALENDAR
VERSION:2.0
PRODID:-//FECDAS - ECPv6.10.1.1//NONSGML v1.0//EN
CALSCALE:GREGORIAN
METHOD:PUBLISH
X-WR-CALNAME:FECDAS
X-ORIGINAL-URL:https://fecdas.cat
X-WR-CALDESC:Esdeveniments per FECDAS
REFRESH-INTERVAL;VALUE=DURATION:PT1H
X-Robots-Tag:noindex
X-PUBLISHED-TTL:PT1H
BEGIN:VTIMEZONE
TZID:Europe/Madrid
BEGIN:DAYLIGHT
TZOFFSETFROM:+0100
TZOFFSETTO:+0200
TZNAME:CEST
DTSTART:20250330T010000
END:DAYLIGHT
BEGIN:STANDARD
TZOFFSETFROM:+0200
TZOFFSETTO:+0100
TZNAME:CET
DTSTART:20251026T010000
END:STANDARD
END:VTIMEZONE
BEGIN:VEVENT
DTSTART;VALUE=DATE:20250628
DTEND;VALUE=DATE:20250630
DTSTAMP:20260421T101208
CREATED:20250224T081843Z
LAST-MODIFIED:20250226T104513Z
UID:12619-1751068800-1751241599@fecdas.cat
SUMMARY:XXXVIII Campeonato de España de Natación con Aletas Infantil - Cadete
DESCRIPTION:
URL:https://fecdas.cat/activitat/campeonato-de-espana-de-natacion-con-aletas-infantil-cadete/
LOCATION:Sant Feliu de Guíxols\, Sant Feliu de Guíxols\, Espanya
CATEGORIES:Natació amb aletes
END:VEVENT
END:VCALENDAR